BEGIN:VCALENDAR
VERSION:2.0
PRODID:icalendar-ruby
CALSCALE:GREGORIAN
BEGIN:VEVENT
DTSTAMP:20260421T061609Z
UID:ed0fb40b-d88b-4254-8d66-d585097271e2
DTSTART;VALUE=DATE:20220324
DESCRIPTION:Property ID# 529971\, Time: 11:00AM
SUMMARY:Auction for 
END:VEVENT
END:VCALENDAR
