BEGIN:VCALENDAR
VERSION:2.0
PRODID:icalendar-ruby
CALSCALE:GREGORIAN
BEGIN:VEVENT
DTSTAMP:20260421T064038Z
UID:805d7f89-061d-43c5-a8a5-c80236dfeb27
DTSTART;VALUE=DATE:20220331
DESCRIPTION:Property ID# 531063\, Time: 2:00PM
SUMMARY:Auction for 
END:VEVENT
END:VCALENDAR
