BEGIN:VCALENDAR
VERSION:2.0
PRODID:icalendar-ruby
CALSCALE:GREGORIAN
BEGIN:VEVENT
DTSTAMP:20260421T062519Z
UID:58810b97-8a68-4e51-a0b0-08e12f54e4e3
DTSTART;VALUE=DATE:20231116
DESCRIPTION:Property ID# 563841\, Time: 11:00AM
SUMMARY:Auction for 
END:VEVENT
END:VCALENDAR
