BEGIN:VCALENDAR
VERSION:2.0
PRODID:icalendar-ruby
CALSCALE:GREGORIAN
BEGIN:VEVENT
DTSTAMP:20260421T061913Z
UID:137927a0-2cda-4338-b12e-cff10b84fbc3
DTSTART;VALUE=DATE:20231214
DESCRIPTION:Property ID# 565819\, Locatoin: Harcourts Auction Rooms \, Time
 : 11:00AM
SUMMARY:Auction for 
END:VEVENT
END:VCALENDAR
