BEGIN:VCALENDAR
VERSION:2.0
PRODID:icalendar-ruby
CALSCALE:GREGORIAN
BEGIN:VEVENT
DTSTAMP:20260421T062031Z
UID:95a02f02-7bc8-49fd-9e39-76cccc1cde47
DTSTART;VALUE=DATE:20240320
DESCRIPTION:Property ID# 569721\, Locatoin: Harcourts Auction Rooms \, Time
 : 11:00AM
SUMMARY:Auction for 
END:VEVENT
END:VCALENDAR
