BEGIN:VCALENDAR
VERSION:2.0
PRODID:icalendar-ruby
CALSCALE:GREGORIAN
BEGIN:VEVENT
DTSTAMP:20260421T062312Z
UID:8839ec64-6a57-4c71-8719-0706f75ea578
DTSTART;VALUE=DATE:20241204
DESCRIPTION:Property ID# 583702\, Time: 1:00PM
SUMMARY:Auction for 
END:VEVENT
END:VCALENDAR
