BEGIN:VCALENDAR
VERSION:2.0
PRODID:icalendar-ruby
CALSCALE:GREGORIAN
BEGIN:VEVENT
DTSTAMP:20260421T061845Z
UID:0559e3d2-0cb2-43f9-9436-59d48ff0cb7f
DTSTART;VALUE=DATE:20250303
DESCRIPTION:Property ID# 586859\, Locatoin: Rotary Club Rooms - 45 Canada S
 treet\, Morrinsville\, Time: 12:00PM
SUMMARY:Auction for 
END:VEVENT
END:VCALENDAR
