BEGIN:VCALENDAR
VERSION:2.0
PRODID:icalendar-ruby
CALSCALE:GREGORIAN
BEGIN:VEVENT
DTSTAMP:20260421T062311Z
UID:8a34f20f-63d7-4ee6-8c83-8b1b228ced80
DTSTART;VALUE=DATE:20250309
DESCRIPTION:Property ID# 587536\, Locatoin: Rotary Club Rooms - 45 Canada S
 treet\, Morrinsville\, Time: 11:00AM
SUMMARY:Auction for 
END:VEVENT
END:VCALENDAR
