BEGIN:VCALENDAR
VERSION:2.0
PRODID:icalendar-ruby
CALSCALE:GREGORIAN
BEGIN:VEVENT
DTSTAMP:20260421T062128Z
UID:9d16a093-e9ff-4ee8-8148-73b24ef07425
DTSTART;VALUE=DATE:20250319
DESCRIPTION:Property ID# 588358\, Locatoin: 45 Canada Street\, Morrinsville
 \, Time: 3:00PM
SUMMARY:Auction for 
END:VEVENT
END:VCALENDAR
